BEGIN:VCALENDAR
VERSION:2.0
PRODID:-//wp-events-plugin.com//7.0.5//EN
TZID:Europe/Madrid
X-WR-TIMEZONE:Europe/Madrid
BEGIN:VEVENT
UID:391@cotoc.cat
DTSTART;TZID=Europe/Madrid:20251230T000000
DTEND;TZID=Europe/Madrid:20261230T000000
DTSTAMP:20260304T161252Z
URL:https://www.cotoc.cat/es/serveis/formacio-continua/curs/descuentos-exc
 lusivos-para-estudiar-en-unir/
SUMMARY:¡DESCUENTOS EXCLUSIVOS PARA ESTUDIAR EN UNIR!
DESCRIPTION:¡DESCUENTOS EXCLUSIVOS PARA ESTUDIAR EN UNIR!\n&nbsp\;\n\nGrac
 ias a nuestro convenio de colaboración con la Universidad Internacional d
 e La Rioja (UNIR)\, ahora puedes acceder a estudios oficiales 100% online
  con condiciones preferentes para ti y tu familia.\n\n&nbsp\;\n\nEstudia
  con total flexibilidad y obtén un título oficial\n Más de 300 titulaci
 ones universitarias\n Formación online de calidad adaptada a tu ritmo\n B
 onificación exclusiva por ser parte de COTOC\n\nObtén tu descuento solic
 itando información aquí: UNIR - COTOC Descuentos Otoño 25\n\n&nbsp\;\n\
 n ¡No dejes pasar esta oportunidad! La convocatoria de matriculación par
 a Otoño 2025 ya está abierta. ¡Las plazas son limitadas!
ATTACH;FMTTYPE=image/jpeg:https://www.cotoc.cat/wp-content/uploads/2025/04
 /UNIR-COTOC-Descuentos-P26-1-pdf.jpg
CATEGORIES:Otras formaciones
END:VEVENT
BEGIN:VTIMEZONE
TZID:Europe/Madrid
X-LIC-LOCATION:Europe/Madrid
BEGIN:STANDARD
DTSTART:20251026T020000
TZOFFSETFROM:+0200
TZOFFSETTO:+0100
TZNAME:CET
END:STANDARD
BEGIN:DAYLIGHT
DTSTART:20260329T030000
TZOFFSETFROM:+0100
TZOFFSETTO:+0200
TZNAME:CEST
END:DAYLIGHT
BEGIN:STANDARD
DTSTART:20261025T020000
TZOFFSETFROM:+0200
TZOFFSETTO:+0100
TZNAME:CET
END:STANDARD
END:VTIMEZONE
END:VCALENDAR