BEGIN:VCALENDAR
VERSION:2.0
PRODID:-//wp-events-plugin.com//7.0.5//EN
TZID:Europe/Madrid
X-WR-TIMEZONE:Europe/Madrid
BEGIN:VEVENT
UID:392@cotoc.cat
DTSTART;TZID=Europe/Madrid:20251230T000000
DTEND;TZID=Europe/Madrid:20261230T000000
DTSTAMP:20251230T125040Z
URL:https://www.cotoc.cat/serveis/formacio-continua/curs/descomptes-exclus
 ius-per-a-estudiar-a-unir/
SUMMARY:¡DESCOMPTES EXCLUSIUS PER A ESTUDIAR A UNIR!!
DESCRIPTION: \n FORMACIÓN UNIVERSITARIA CON DESCUENTOS EXCLUSIVOS – UN
 IR | PRIMAVERA 2026\nGracias al Convenio de colaboración entre COTOC y 
 la Universidad Internacional de La Rioja (UNIR)\, nuestros miembros y sus
  familiares pueden acceder a descuentos exclusivos en toda su oferta fo
 rmativa.\nTitulaciones oficiales y títulos propios\nModalidad 100% online
 \nFlexibilidad total para compaginar estudios y trabajo\nCondiciones econ
 ómicas preferentes (para ti y tu familia) por pertenecer a COTOC\nConsul
 ta la oferta formativa y solicita información aquí\nConvocatoria de Pri
 mavera 2026 abierta\n Plazas limitadas\n&nbsp\;\n\n&nbsp\;
ATTACH;FMTTYPE=image/jpeg:https://www.cotoc.cat/wp-content/uploads/2025/04
 /UNIR-COTOC-Descuentos-P26-pdf.jpg
CATEGORIES:Altres formacions
END:VEVENT
BEGIN:VTIMEZONE
TZID:Europe/Madrid
X-LIC-LOCATION:Europe/Madrid
BEGIN:STANDARD
DTSTART:20251026T020000
TZOFFSETFROM:+0200
TZOFFSETTO:+0100
TZNAME:CET
END:STANDARD
BEGIN:DAYLIGHT
DTSTART:20260329T030000
TZOFFSETFROM:+0100
TZOFFSETTO:+0200
TZNAME:CEST
END:DAYLIGHT
BEGIN:STANDARD
DTSTART:20261025T020000
TZOFFSETFROM:+0200
TZOFFSETTO:+0100
TZNAME:CET
END:STANDARD
END:VTIMEZONE
END:VCALENDAR