BEGIN:VCALENDAR
VERSION:2.0
PRODID:-//wp-events-plugin.com//7.0.5//EN
TZID:Europe/Madrid
X-WR-TIMEZONE:Europe/Madrid
BEGIN:VEVENT
UID:193@cotoc.cat
DTSTART;TZID=Europe/Madrid:20240213T000000
DTEND;TZID=Europe/Madrid:20240214T000000
DTSTAMP:20240116T114728Z
URL:https://www.cotoc.cat/serveis/formacio-continua/curs/euit-analisis-cli
 nic-de-la-ma-traumatica-per-una-intervencio-efectiva/
SUMMARY:EUIT "ANÀLISIS CLÍNIC DE LA MÀ TRAUMÀTICA PER UNA INTERVENCIÓ 
 EFECTIVA"
DESCRIPTION:EUIT "ANÀLISIS CLÍNIC DE LA MÀ TRAUMÀTICA PER UNA INTERVENC
 IÓ EFECTIVA"\nLa formació té una durada total de 8 hores distribuïdes 
 en 2\nsessions al febrer del 2024:\n• Dimarts 13 de FEBRER de 16:00 a 19
 :30h. (3\,5h)\n• Dimecres 14 de FEBRER de 15:00 a 19:30h (4\,5h)\n&nbsp\
 ;\n\nLLOC Els Espais de simulació i laboratoris en Ciències de la Salut 
 els\npodeu trobar al Carrer Independència\, 2\, 08225 de Terrassa.\n\nNÚ
 M. PLACES 15 places\nGratuït en servei de CONTRAPRESTACIÓ per a professi
 onals\ntutors de la pràctica durant els anys 2022-2023.\n90 euros per alt
 res professionals sanitaris que vulguin\naccedir a la formació de manera 
 privada. Facilitem dades a\nles empresa si volen bonificar aquesta formaci
 ó.\nFOMULARI D’INSCRIPCIÓ AL CURS\nPROGRAMA
ATTACH;FMTTYPE=image/jpeg:https://www.cotoc.cat/wp-content/uploads/2024/01
 /FC24_-Analisis-clinic-de-la-ma-trumatica-3-pdf.jpg
CATEGORIES:Altres formacions
END:VEVENT
BEGIN:VTIMEZONE
TZID:Europe/Madrid
X-LIC-LOCATION:Europe/Madrid
BEGIN:STANDARD
DTSTART:20231029T020000
TZOFFSETFROM:+0200
TZOFFSETTO:+0100
TZNAME:CET
END:STANDARD
END:VTIMEZONE
END:VCALENDAR