BEGIN:VCALENDAR
VERSION:2.0
PRODID:-//wp-events-plugin.com//7.0.5//EN
TZID:Europe/Madrid
X-WR-TIMEZONE:Europe/Madrid
BEGIN:VEVENT
UID:431@cotoc.cat
DTSTART;TZID=Europe/Madrid:20251024T000000
DTEND;TZID=Europe/Madrid:20251122T000000
DTSTAMP:20250630T120901Z
URL:https://www.cotoc.cat/serveis/formacio-continua/curs/tecnocampus-curs-
 de-rehabilitacio-integral-del-pacient-amputat-dextremitat-inferior-i-super
 ior/
SUMMARY:TecnoCampus Curs de Rehabilitació integral del pacient amputat d'e
 xtremitat inferior i superior
DESCRIPTION:TecnoCampus Curs presencial  \nRehabilitació integral del pa
 cient amputat d'extremitat inferior i superior\n\n\nDates:\n- Primer Semin
 ari: 24 i 25 d'octubre de 2025\n- Segon Seminari: 21 i 22 de novembre de 2
 025\nLloc de realització:\nTecnoCampus\, Avinguda Ernest Lluch\, 32\, Mat
 aró\nHorari:\n- Divendres de 9h a 14h i 15h a 18h\n- Dissabtes de 9h a 
 14h y 15:30h a 18:30h\nDuració:\n30 hores\n\n\n\nModalitat:\nPresencial\
 nIdioma:\nCastellà\nPreu:\n470€\nDescomptes:  COL·LEGIATS COTOC 10%\n
 Consultar més descomptes al següent enllaç\n\n\nCurs de Rehabilitació
  integral del pacient amputat d'extremitat inferior i superior\n\nPer a m
 és informació clickeu aquí\n\n\n\n\n&nbsp\;\n\n\n\n\n\n\n\n\n
ATTACH;FMTTYPE=image/jpeg:https://www.cotoc.cat/wp-content/uploads/2025/06
 /Imagen2.png
CATEGORIES:Altres formacions
END:VEVENT
BEGIN:VTIMEZONE
TZID:Europe/Madrid
X-LIC-LOCATION:Europe/Madrid
BEGIN:DAYLIGHT
DTSTART:20250330T030000
TZOFFSETFROM:+0100
TZOFFSETTO:+0200
TZNAME:CEST
END:DAYLIGHT
BEGIN:STANDARD
DTSTART:20251026T020000
TZOFFSETFROM:+0200
TZOFFSETTO:+0100
TZNAME:CET
END:STANDARD
END:VTIMEZONE
END:VCALENDAR